BEGIN:VCALENDAR
VERSION:2.0
PRODID:-//Women in Product India | Empowering Women Product Leaders - ECPv6.15.20//NONSGML v1.0//EN
CALSCALE:GREGORIAN
METHOD:PUBLISH
X-WR-CALNAME:Women in Product India | Empowering Women Product Leaders
X-ORIGINAL-URL:https://womeninproductindia.com
X-WR-CALDESC:Events for Women in Product India | Empowering Women Product Leaders
REFRESH-INTERVAL;VALUE=DURATION:PT1H
X-Robots-Tag:noindex
X-PUBLISHED-TTL:PT1H
BEGIN:VTIMEZONE
TZID:UTC
BEGIN:STANDARD
TZOFFSETFROM:+0000
TZOFFSETTO:+0000
TZNAME:UTC
DTSTART:20240101T000000
END:STANDARD
END:VTIMEZONE
BEGIN:VEVENT
DTSTART;TZID=UTC:20250813T190000
DTEND;TZID=UTC:20250813T200000
DTSTAMP:20260420T062213
CREATED:20250813T094547Z
LAST-MODIFIED:20250813T104304Z
UID:6825-1755111600-1755115200@womeninproductindia.com
SUMMARY:Model Context Protocol for Product Builders : August Cohort Curtain Raiser:
DESCRIPTION:About Event\nJoin Our Interactive Session: • Understanding MCP: Explore the core concepts behind MCP and why it matters in today’s AI-driven world. • MCP for Product Managers: Learn how MCP can enhance your ability to deliver impactful AI products effectively. • Hands-on Demo: Witness a live MCP implementation using N8N\, showcasing practical applications and seamless AI workflow creation. \nKey Takeaways: • Comprehensive grasp of MCP and its strategic importance in AI Product Management. • Insights into effectively managing MCP-driven AI projects. • Practical demonstration of MCP applications using N8N. \nWho Should Attend? \n\nAspiring AI Product Managers and Leaders.\nEngineers seeking roles in AI Product Management.\nIndividuals passionate about advancing their career in AI.\n\n Reserve your spot now and empower your AI PM journey!\nWe will be sharing information about our upcoming August cohort during this ession. more details can be found here  \n​Register  and pay here – https://www.sparkprod.in/ai-product-management-course-august \n​Email us on hello@womeninproductindia.com \n \n\n\n\n \n \n\n Start Date: Augusr 13\, 2025 \n Start Time:07:00 PM \n End Time:08:00 PM \n End Date: Augusr 13\, 2025 \n Location: Virtual
URL:https://womeninproductindia.com/event/model-context-protocol-for-product-builders-august-cohort-curtain-raiser/
LOCATION:Virtual\, Virtual\, India
ATTACH;FMTTYPE=image/jpeg:https://womeninproductindia.com/wp-content/uploads/2025/08/today.jpg
END:VEVENT
END:VCALENDAR