BEGIN:VCALENDAR
VERSION:2.0
PRODID:-//Women in Product India | Empowering Women Product Leaders - ECPv6.15.20//NONSGML v1.0//EN
CALSCALE:GREGORIAN
METHOD:PUBLISH
X-ORIGINAL-URL:https://womeninproductindia.com
X-WR-CALDESC:Events for Women in Product India | Empowering Women Product Leaders
REFRESH-INTERVAL;VALUE=DURATION:PT1H
X-Robots-Tag:noindex
X-PUBLISHED-TTL:PT1H
BEGIN:VTIMEZONE
TZID:UTC
BEGIN:STANDARD
TZOFFSETFROM:+0000
TZOFFSETTO:+0000
TZNAME:UTC
DTSTART:20240101T000000
END:STANDARD
END:VTIMEZONE
BEGIN:VEVENT
DTSTART;TZID=UTC:20250823T103000
DTEND;TZID=UTC:20250823T130000
DTSTAMP:20260420T062257
CREATED:20250813T101500Z
LAST-MODIFIED:20250813T104525Z
UID:6829-1755945000-1755954000@womeninproductindia.com
SUMMARY:Smart Agents\, Smarter Payments - by WIP India X Cashfree Payments
DESCRIPTION:About Event\nWomen in Product India x Cashfree Payments present:\n“Agent Era: Designing AI Agents for Commerce” \n\nAI agents are redesigning how we pay\, shop\, and build. Join us for an evening of cutting-edge conversations with India’s top product leaders as we unpack how intelligent agents are reshaping ecommerce payment flows and what it means for the future of product design.\n \nWhat’s in store? \n\n💡 Keynote Talk: Reimagining payments: Building agentic workflows for e-commerce at scale — by Lavika Aggarwal\, Group Product Manager\, Cashfree Payments.\n🎙️ Power Panel: AI Agents Unlocked — featuring product leaders & execs from diverse domains\, diving into how AI agents are being built\, deployed\, and scaled across industries.\n🤝 Networking & Roundtables: Meet fellow builders\, PMs\, and innovators who are pushing the boundaries of AI in India.\n\n\nMeet the Hiring teams of Cashfree Payments and explore relevant product opportunities.\n \n\n\n\n \n \n\n Where: Koramangala\, Bangalore \n When: Sat\, 23rd Aug\, 2025; 10:30 AM to 1:00 PM \n​Come for the insights\, stay for the conversations — and leave ready to reimagine what’s possible with AI agents.
URL:https://womeninproductindia.com/event/smart-agents-smarter-payments-by-wip-india-x-cashfree-payments/
LOCATION:Bengaluru\, British Indian Ocean Territory
ATTACH;FMTTYPE=image/jpeg:https://womeninproductindia.com/wp-content/uploads/2025/08/aug-23-2-2.jpg
END:VEVENT
BEGIN:VEVENT
DTSTART;TZID=UTC:20250823T160000
DTEND;TZID=UTC:20250823T180000
DTSTAMP:20260420T062257
CREATED:20250813T102022Z
LAST-MODIFIED:20250819T064016Z
UID:6831-1755964800-1755972000@womeninproductindia.com
SUMMARY:Scaling with Agents
DESCRIPTION:About Event\nWelcome to The Agent Era: A Deep Dive with Founders & Product Leaders \nJoin us for an exclusive evening where we bring together builders\, doers\, and decision-makers to decode the real-world impact of AI agents. \nWhat’s on the agenda? \n🎙️ Keynote Session — From Zero to Agent: Building an Agent-Driven Startup\nHear from a powerhouse founder on how they turned an idea into a market-ready product using AI agents to automate critical workflows and unlock real customer value. \n💡 Product Leader Talk — Designing for the Agent Era\nLearn how established product teams are integrating agents into existing flows\, driving adoption\, and designing seamless agent-user interactions. \n🤝 Who should attend? \nProduct managers\, founders\, designers\, engineers\, and anyone curious about how agents will shape the next generation of digital products. \n\n\n\n\n\n Where: Jubliee Hills\, Hyderabad \n When: 23rd Aug\, 2025; 4:00 PM to 6:00 PM \n​Let’s explore what’s possible when humans and agents build together.
URL:https://womeninproductindia.com/event/scaling-with-agents/
LOCATION:Hyderabad\, Telangana
ATTACH;FMTTYPE=image/jpeg:https://womeninproductindia.com/wp-content/uploads/2025/08/aug-23-2-1.jpg
END:VEVENT
BEGIN:VEVENT
DTSTART;TZID=UTC:20250823T180000
DTEND;TZID=UTC:20250906T200000
DTSTAMP:20260420T062257
CREATED:20250813T102945Z
LAST-MODIFIED:20250819T064333Z
UID:6833-1755972000-1757188800@womeninproductindia.com
SUMMARY:Next Gen AI PM Program - August Cohort
DESCRIPTION:About Event\nAn inclusive community to bring together and empower women in & interested in leading the product management landscape of India. \n\n\n\n \n \n\n Where: Virtual \n When: Saturday\, August 23 6:00 PM to 10:00 PM \n​Let’s explore what’s possible when humans and agents build together.
URL:https://womeninproductindia.com/event/next-gen-ai-pm-program-august-cohort/
LOCATION:Virtual\, Virtual\, India
ATTACH;FMTTYPE=image/jpeg:https://womeninproductindia.com/wp-content/uploads/2025/08/aug-23-3.jpg
END:VEVENT
END:VCALENDAR