BEGIN:VCALENDAR
VERSION:2.0
PRODID:-//Women in Product India | Empowering Women Product Leaders - ECPv6.15.20//NONSGML v1.0//EN
CALSCALE:GREGORIAN
METHOD:PUBLISH
X-ORIGINAL-URL:https://womeninproductindia.com
X-WR-CALDESC:Events for Women in Product India | Empowering Women Product Leaders
REFRESH-INTERVAL;VALUE=DURATION:PT1H
X-Robots-Tag:noindex
X-PUBLISHED-TTL:PT1H
BEGIN:VTIMEZONE
TZID:UTC
BEGIN:STANDARD
TZOFFSETFROM:+0000
TZOFFSETTO:+0000
TZNAME:UTC
DTSTART:20240101T000000
END:STANDARD
END:VTIMEZONE
BEGIN:VEVENT
DTSTART;TZID=UTC:20250823T180000
DTEND;TZID=UTC:20250906T200000
DTSTAMP:20260420T033139
CREATED:20250813T102945Z
LAST-MODIFIED:20250819T064333Z
UID:6833-1755972000-1757188800@womeninproductindia.com
SUMMARY:Next Gen AI PM Program - August Cohort
DESCRIPTION:About Event\nAn inclusive community to bring together and empower women in & interested in leading the product management landscape of India. \n\n\n\n \n \n\n Where: Virtual \n When: Saturday\, August 23 6:00 PM to 10:00 PM \n​Let’s explore what’s possible when humans and agents build together.
URL:https://womeninproductindia.com/event/next-gen-ai-pm-program-august-cohort/
LOCATION:Virtual\, Virtual\, India
ATTACH;FMTTYPE=image/jpeg:https://womeninproductindia.com/wp-content/uploads/2025/08/aug-23-3.jpg
END:VEVENT
BEGIN:VEVENT
DTSTART;TZID=UTC:20250905T190000
DTEND;TZID=UTC:20250905T200000
DTSTAMP:20260420T033139
CREATED:20250818T121057Z
LAST-MODIFIED:20251202T123349Z
UID:6963-1757098800-1757102400@womeninproductindia.com
SUMMARY:AI for Her : Launch Event
DESCRIPTION:About Event\nAn inclusive community to bring together and empower women in & interested in leading the product management landscape of India. \nJoin us for an exclusive 2-day AI Bootcamp designed to empower 100\,000 young women across India with practical\, hands-on AI skills. \n​In this interactive weekend program\, you’ll explore the world of Artificial Intelligence through live demos\, creative challenges\, and real-world projects. From writing your first AI-generated story to building a portfolio website and designing professional presentations — you’ll walk away with skills you can use in school\, college\, career\, and beyond. \nWhat to Expect \n\nLearn by Doing: Hands-on sessions with the most popular AI tools (ChatGPT\, Gemini\, Gamma\, Lovable.dev\, Canva AI\, and more).\nFun & Interactive: Games\, competitions\, and live challenges that make learning exciting.\nCreate Your Own Work: AI-generated stories\, visuals\, websites\, presentations\, and a complete digital portfolio.\nFuture-Ready Skills: Insights into AI-powered careers\, ethics\, and how to use AI responsibly.\nRecognition & Rewards: Certificates\, badges\, and awards for top performers.\n\n Who Can Join: Female student with curiosity and a drive to learn. \nBe part of India’s largest women-led AI learning movement.\nTogether\, let’s unlock creativity\, build confidence\, and prepare for the future of work with AI. \n \n\n\n \n \n\n Where: Please register to see the exact location of this event. \n When: Saturday\, September 5 7:00 PM to 8:00 PM
URL:https://womeninproductindia.com/event/ai-for-her-launch-event/
LOCATION:Virtual\, Virtual\, India
ATTACH;FMTTYPE=image/jpeg:https://womeninproductindia.com/wp-content/uploads/2025/12/AI-for-Her-Launch-Event.jpg
END:VEVENT
END:VCALENDAR