BEGIN:VCALENDAR
VERSION:2.0
PRODID:-//Women in Product India | Empowering Women Product Leaders - ECPv6.15.20//NONSGML v1.0//EN
CALSCALE:GREGORIAN
METHOD:PUBLISH
X-ORIGINAL-URL:https://womeninproductindia.com
X-WR-CALDESC:Events for Women in Product India | Empowering Women Product Leaders
REFRESH-INTERVAL;VALUE=DURATION:PT1H
X-Robots-Tag:noindex
X-PUBLISHED-TTL:PT1H
BEGIN:VTIMEZONE
TZID:UTC
BEGIN:STANDARD
TZOFFSETFROM:+0000
TZOFFSETTO:+0000
TZNAME:UTC
DTSTART:20250101T000000
END:STANDARD
END:VTIMEZONE
BEGIN:VEVENT
DTSTART;TZID=UTC:20260117T100000
DTEND;TZID=UTC:20260118T170000
DTSTAMP:20260419T224203
CREATED:20251202T072128Z
LAST-MODIFIED:20260311T173220Z
UID:7452-1768644000-1768755600@womeninproductindia.com
SUMMARY:Bootcamp: Master YouTube\, Instagram & LinkedIn
DESCRIPTION:About Event\n​This 2-day\, hands-on weekend course is designed for entrepreneurs\, working professionals\, and freelancers who want to strategically use social media to grow their business and personal brand. \n​​​Over two power-packed days (10 AM – 5 PM)\, you’ll learn how to: \n\nCraft a powerful personal brand that stands out online\nBuild a content strategy that attracts leads and converts them into customers\nLeverage YouTube\, Instagram\, and LinkedIn to drive real business growth\nUnderstand platform algorithms\, analytics\, and growth tactics used by top creators\nCreate your first 30-day content plan with expert guidance\n\n​By the end of the workshop\, you’ll walk away with: \n\nA clear content strategy for your business\nReady-to-post video ideas and scripts\nA proven playbook to grow your audience and revenue\n\nWho is it for? Founders\, small business owners\, freelancers\, creators\, and professionals who want to turn their online presence into real-world success. \nFormat: In-person & Online / Live Weekend Workshop \nDuration: 2 Days (Saturday & Sunday\, 10 AM – 5 PM) \nCost: Rs. 9\,999/- \nEarly Bird Offer: 25% Off for the first 10 registrations (applied automatically on checkout) \nPayment Link:  https://rzp.io/rzp/pFlgZBr2 \nOutcome: Your complete 30-day action plan to grow using YouTube\, Instagram & LinkedIn. \nBuild your brand. Grow your business. Level up your influence. \n​Ticket Price to cover an amazing 4 course dinner spread: Rs. 2500/- \nWe can’t wait to see you there 💃 \n🗓️ Date:Saturday\, January 17\, 2026 \n🕒 Time:10:00 AM – Jan 18\, 5:00 PM \n📍 Venue:Bengaluru\, Karnataka \n \n\n\n \n\nBecome part of the Women in Product India community: \n\nApply for Membership\nInstagram\nLinkedIn\nEvents Calendar\n\nRequest to Join
URL:https://womeninproductindia.com/event/bootcamp-master-youtube-instagram-linkedin/
LOCATION:Bengaluru\, Karnataka
ATTACH;FMTTYPE=image/jpeg:https://womeninproductindia.com/wp-content/uploads/2025/12/Bootcamp-Master-YouTube-Instagram-LinkedIn.jpg
END:VEVENT
END:VCALENDAR