BEGIN:VCALENDAR
VERSION:2.0
PRODID:-//Women in Product India | Empowering Women Product Leaders - ECPv6.15.20//NONSGML v1.0//EN
CALSCALE:GREGORIAN
METHOD:PUBLISH
X-ORIGINAL-URL:https://womeninproductindia.com
X-WR-CALDESC:Events for Women in Product India | Empowering Women Product Leaders
REFRESH-INTERVAL;VALUE=DURATION:PT1H
X-Robots-Tag:noindex
X-PUBLISHED-TTL:PT1H
BEGIN:VTIMEZONE
TZID:UTC
BEGIN:STANDARD
TZOFFSETFROM:+0000
TZOFFSETTO:+0000
TZNAME:UTC
DTSTART:20250101T000000
END:STANDARD
END:VTIMEZONE
BEGIN:VEVENT
DTSTART;TZID=UTC:20260412T100000
DTEND;TZID=UTC:20260412T130000
DTSTAMP:20260420T004401
CREATED:20260416T113803Z
LAST-MODIFIED:20260416T150543Z
UID:8338-1775988000-1775998800@womeninproductindia.com
SUMMARY:Claude Lab: A hands-on workshop
DESCRIPTION:About Event\nThis event has concluded. \nThis 3-hour hands-on Claude Workshop is designed to help you move beyond random prompts and inconsistent outputs. \nYou’ll learn how to build structured\, repeatable AI workflows tailored to your personal and professional goals. \nWe’ll begin with learning how to use Claude Chat effectively with structured prompting\, and how to turn Claude into a co-worker for thinking\, writing\, and problem-solving. \nYou’ll also explore how to design custom Claude skills for your specific use cases\, use plugins and integrations\, and build end-to-end workflows from idea to execution. \nThen\, we focus on hands-on application. \nYou will build your own custom AI skills\, create real workflows you can use immediately\, and work on your actual use cases with live feedback to improve your outputs in real time. \nBy the end of the workshop\, you will have built 2+ custom Claude skills\, one complete workflow system\, and gained a clear understanding of how to operate with AI effectively. \nLet’s build smarter systems with AI. 🚀 \nLocation\n    Please register to see the exact location of this event.\n    Bengaluru\, Karnataka \n \n\n\n      \n    \n\nBecome part of the Women in Product India community: \n\nApply for Membership\nInstagram\nLinkedIn\nEvents Calendar\n\n      View Event
URL:https://womeninproductindia.com/event/claude-lab-a-hands-on-workshop/
LOCATION:Bengaluru\, Karnataka
CATEGORIES:Ucoming
ATTACH;FMTTYPE=image/png:https://womeninproductindia.com/wp-content/uploads/2026/03/Claude-Lab.png
END:VEVENT
BEGIN:VEVENT
DTSTART;TZID=UTC:20260425T083000
DTEND;TZID=UTC:20260425T100000
DTSTAMP:20260420T004401
CREATED:20260416T121240Z
LAST-MODIFIED:20260416T150438Z
UID:8351-1777105800-1777111200@womeninproductindia.com
SUMMARY:WIP India Wellness Club: Pilates Edition
DESCRIPTION:About Event\nJoin us for a refreshing morning of movement and mindfulness with Anjali Kumar\, our Pilates expert visiting from Bali\, Indonesia. \nShe’ll be in Bangalore for a limited time and is hosting an exclusive session for Women in Product India members\, a perfect opportunity to reset\, recharge\, and reconnect with your body. \nWhether you’re a beginner or experienced\, this session is designed to help you build strength\, improve flexibility\, and feel more grounded\, all while connecting with an incredible community of women. \n✨ Don’t miss this chance to blend wellness with meaningful connections. \nWhat to bring: Yoga mat & comfortable workout wear. \nWe’ll begin with a guided Pilates session focused on strength\, flexibility\, and mindful movement in a supportive and energizing environment. \nThen\, we focus on connection. \nYou’ll get the opportunity to engage with fellow members\, share experiences\, and build meaningful connections within the Women in Product India community. \nLet’s take a moment to reset\, recharge\, and reconnect. ✨ \nLocation\n    Please register to see the exact location of this event.\n    Bengaluru\, Karnataka \n \n\n\n      \n    \n\nBecome part of the Women in Product India community: \n\nApply for Membership\nInstagram\nLinkedIn\nEvents Calendar\n\n      Request to Join
URL:https://womeninproductindia.com/event/wip-india-wellness-club-pilates-edition/
LOCATION:Bengaluru\, Karnataka
ATTACH;FMTTYPE=image/avif:https://womeninproductindia.com/wp-content/uploads/2026/04/b573a00f-3bf8-41a2-b8a2-158fe31044b5.png.avif
END:VEVENT
BEGIN:VEVENT
DTSTART;TZID=UTC:20260426T100000
DTEND;TZID=UTC:20260426T140000
DTSTAMP:20260420T004401
CREATED:20260416T120321Z
LAST-MODIFIED:20260416T120701Z
UID:8347-1777197600-1777212000@womeninproductindia.com
SUMMARY:Social Media Mastery With AI
DESCRIPTION:About Event\nSocial Media Mastery With AI – 1-Day Hands-On Workshop. \nDo you spend more time thinking about content than actually posting it? \nYou’re not lazy. You’re just missing clarity and a system. \nWe’ll begin with learning YouTube basics for business growth\, what to post\, where to post\, and why\, and how to build a 30-day content strategy using AI tools for content creation. \nYou’ll also explore how to create your own AI avatar\, generate videos\, and build simple workflows to stop overthinking and stay consistent. \nThen\, we focus on hands-on application. \nYou will create your own content system\, develop a 30-day content calendar\, generate ready-to-use ideas\, and set up an AI-powered workflow you can actually follow. \nBy the end of the workshop\, you will have clear content direction\, a structured plan\, and practical tools to grow your personal brand or business using AI. \nLet’s build smarter content systems with AI. 🚀 \nLocation\n    Please register to see the exact location of this event.\n    Bengaluru\, Karnataka \n \n\n\n      \n    \n\nBecome part of the Women in Product India community: \n\nApply for Membership\nInstagram\nLinkedIn\nEvents Calendar\n\n      Request to Join
URL:https://womeninproductindia.com/event/social-media-mastery-with-ai/
LOCATION:Bangalore
ATTACH;FMTTYPE=image/avif:https://womeninproductindia.com/wp-content/uploads/2026/04/5df3ea8a-c409-405e-9e7b-aa37c57aa29d.png.avif
END:VEVENT
END:VCALENDAR