BEGIN:VCALENDAR
VERSION:2.0
PRODID:-//Women in Product India | Empowering Women Product Leaders - ECPv6.15.20//NONSGML v1.0//EN
CALSCALE:GREGORIAN
METHOD:PUBLISH
X-WR-CALNAME:Women in Product India | Empowering Women Product Leaders
X-ORIGINAL-URL:https://womeninproductindia.com
X-WR-CALDESC:Events for Women in Product India | Empowering Women Product Leaders
REFRESH-INTERVAL;VALUE=DURATION:PT1H
X-Robots-Tag:noindex
X-PUBLISHED-TTL:PT1H
BEGIN:VTIMEZONE
TZID:UTC
BEGIN:STANDARD
TZOFFSETFROM:+0000
TZOFFSETTO:+0000
TZNAME:UTC
DTSTART:20240101T000000
END:STANDARD
END:VTIMEZONE
BEGIN:VEVENT
DTSTART;TZID=UTC:20251113T170000
DTEND;TZID=UTC:20251113T190000
DTSTAMP:20260419T235257
CREATED:20251128T104315Z
LAST-MODIFIED:20251202T123149Z
UID:7286-1763053200-1763060400@womeninproductindia.com
SUMMARY:Female Founders Roundtable
DESCRIPTION:About Event\n​Female Founders Roundtable: Building\, Scaling & Thriving in the New Era of Entrepreneurship \n​Join us for an inspiring morning of insight\, strategy\, and connection at the Female Founders Roundtable\, featuring our Chief Guest – Benu Aggarwal\, Founder and President\, Milestone Inc.\, a trailblazer in leadership and growth innovation. \n​This exclusive\, founder-led gathering brings together visionary women entrepreneurs to decode what it truly takes to build\, scale\, and sustain successful ventures in an ever-evolving landscape. \nWe begin with a warm welcome and founder introductions\, setting the tone for a day of meaningful exchange and authentic storytelling. \n💬 Roundtable Deep-Dives: \n\n1. The Founder’s Portfolio: Why entrepreneurs need a portfolio mindset beyond a single startup. Design your founder portfolio\, cultivate influence\, and build long-term thought leadership ecosystems.\n2. Metrics That Matter: Move beyond vanity metrics and redefine success. Identify your North Star Metric\, use AI-driven analytics\, and make outcome-based decisions for sustainable growth.\n3. Strategic Execution Blueprint: A 5-step playbook to turn strategy into predictable scale. Learn how founder-led transformations deliver measurable outcomes.\n4. Business Stack for Mastering Scale: Unpack the “Scale Stack” — integrating SaaS\, services\, and AI for exponential leverage. Explore automation\, org design\, and capital-light strategies.\n5. Founder Well-Being: Explore frameworks for mental fitness\, clarity-driven decision-making\, and leading with resilience and purpose.\n6. Roundtable Dialogue & Q&A: Open discussions on AI enablement\, decentralization\, and portfolio entrepreneurship.\n7. Networking & 1:1 Conversations: Connect deeply with fellow women founders\, exchange playbooks\, and spark collaborations.\n\n     \n\n      \n    \n\nJoin Women in Product India: \n\nApply for Membership\nInstagram\nLinkedIn\nEvents Calendar\n\n Where: Bengaluru\, Karnataka \n When: Thursday\, November 13\n5:00 PM – 7:00 PM
URL:https://womeninproductindia.com/event/female-founders-roundtable/
LOCATION:Bengaluru\, Karnataka
ATTACH;FMTTYPE=image/jpeg:https://womeninproductindia.com/wp-content/uploads/2025/12/Female-Founders-Roundtable.jpg
END:VEVENT
BEGIN:VEVENT
DTSTART;TZID=UTC:20251114T170000
DTEND;TZID=UTC:20251114T190000
DTSTAMP:20260419T235257
CREATED:20251128T105846Z
LAST-MODIFIED:20251202T123129Z
UID:7299-1763139600-1763146800@womeninproductindia.com
SUMMARY:AI in Fintech Beyond Chatbots
DESCRIPTION:About Event\nJoin us for an evening of deep insights and conversations as we go beyond chatbots to explore how product leaders\, fintech innovators\, and AI builders are shaping the next wave of financial technology in India. \nWhat to Expect \n\nFireside & panel conversations with fintech leaders\nLightning talks on real-world AI product applications\nRoundtable discussions with peers in product\, design & data\nNetworking with fintech and AI innovators\n\n🗓️ Date: Friday\, 14th Nov \n🕒 Time: 5 PM onwards \n📍 Venue: Perfios\, Koramangala \n👩‍💻 Hosted by: Women in Product India × Perfios \nIf you’re a product manager\, founder\, or technologist building in fintech or AI\, this one’s for you. \n    \n\n\n       \n\nBecome part of the Women in Product India community: \n\nApply for Membership\nInstagram\nLinkedIn\nEvents Calendar
URL:https://womeninproductindia.com/event/ai-in-fintech-beyond-chatbots/
LOCATION:Bengaluru\, Karnataka
ATTACH;FMTTYPE=image/jpeg:https://womeninproductindia.com/wp-content/uploads/2025/12/AI-in-Fintech-Beyond-Chatbots.jpg
END:VEVENT
BEGIN:VEVENT
DTSTART;TZID=UTC:20251119T123000
DTEND;TZID=UTC:20251119T143000
DTSTAMP:20260419T235257
CREATED:20251202T055524Z
LAST-MODIFIED:20251202T123105Z
UID:7426-1763555400-1763562600@womeninproductindia.com
SUMMARY:Hyderabad Brunch Club - WIP India x Mixpanel
DESCRIPTION:About Event\n​Join us for a curated gathering of product leaders in Hyderabad powered by Mixpanel. Joining us from is Vineet\, who leads startups growth at Mixpanel \nThis will be a relaxed\, no-agenda catch-up to connect with fellow product managers\, founders\, builders\, and designers in the community. Whether you’re new to WIP India or a long-time member\, this is a great chance to meet like-minded product leaders\, exchange ideas\, and share what you’re working on. \n🗓️ Date:Wednesday\, 19th Nov \n🕒 Time: 12:15 pm onwardss \n📍 Venue:Hitech City\, Hyderabad (register to view full location) \n \n\n\n       \n\nBecome part of the Women in Product India community: \n\nApply for Membership\nInstagram\nLinkedIn\nEvents Calendar
URL:https://womeninproductindia.com/event/hyderabad-brunch-club-wip-india-x-mixpanel/
LOCATION:Hyderabad\, Telangana
ATTACH;FMTTYPE=image/jpeg:https://womeninproductindia.com/wp-content/uploads/2025/12/Hyderabad-Brunch-Club-WIP-India-x-Mixpanel.jpg
END:VEVENT
BEGIN:VEVENT
DTSTART;TZID=UTC:20251121T100000
DTEND;TZID=UTC:20251121T130000
DTSTAMP:20260419T235257
CREATED:20251202T061534Z
LAST-MODIFIED:20251202T123024Z
UID:7429-1763719200-1763730000@womeninproductindia.com
SUMMARY:WIP India X Google Mumbai Mixer
DESCRIPTION:About Event\nJoin Women in Product India and Google for Developers for a morning of learning\, inspiration and networking in Mumbai. \nTheme: Exploring how women-led products are transforming fintech\, local marketplaces\, and the way India builds with AI. \n\nOpening & Welcome (15 mins)\nFireside Chat with Lizzie Chapman\, Founder of baysys and ZestMoney\nHands-on Workshop — “Build with Google CLI: AI Tools for Product Builders” (60 mins)\n\n​Facilitator: Google Developer Advocate / Google Cloud Engineer \nFormat:  Guided\, interactive workshop with laptops open \n Objective: Learn to prototype and test AI features quickly using Google CLI \n\nBring your laptops for the Hands-on workshop.\n​Arrive 15 mins early to complete security training and venue access formalities\n\nFireside Chat with Akanksha Hazari\, Founder & CEO LoveLocal \n🗓️ Date:Friday\, November 21 10:15 AM – 1:15 PM GMT+5:30 \n📍 Venue:Mumbai\, Maharashtra \n\n\n\n       \n\nBecome part of the Women in Product India community: \n\nApply for Membership\nInstagram\nLinkedIn\nEvents Calendar
URL:https://womeninproductindia.com/event/wip-india-x-google-mumbai-mixer/
LOCATION:Mumbai\, Maharashtra
ATTACH;FMTTYPE=image/jpeg:https://womeninproductindia.com/wp-content/uploads/2025/12/WIP-India-X-Google-Mumbai-Mixer.jpg
END:VEVENT
BEGIN:VEVENT
DTSTART;TZID=UTC:20251122T100000
DTEND;TZID=UTC:20251122T130000
DTSTAMP:20260419T235257
CREATED:20251202T063101Z
LAST-MODIFIED:20251202T122956Z
UID:7433-1763805600-1763816400@womeninproductindia.com
SUMMARY:WIP India Pune launch - Future of energy\, tech & products
DESCRIPTION:About Event\nWe’re thrilled to announce the Pune launch of Women in product India\, in partnership with bp and under the guidance of Supriya Rao\, India MD ClearRoute. \n​This launch marks a new chapter for Pune’s vibrant product\, founder\, and tech community\, bringing together leaders who believe in building with purpose. \n​Expect a morning of powerful keynotes\, a hands-on GenAI workshop for PMs\, and a thought-provoking panel on the future of product management through sustainability\, energy\, and emerging tech. \nWhy Join: \n\nHear from inspiring leaders driving sustainable innovation\nExperience AI in action through an engaging workshop\nExplore how tech and energy are reshaping the PM landscape\nConnect with a community passionate about building for purpose & impact\n\n​Guidelines: \n\nReach the venue at least 15 mins early for the security training and venue access.\n\nAgenda: \n\nAbout Women in Product India (5 mins)\nThank you note to bp and partners (5 mins)\nExec speaker session 1 (20 mins)\nPanel discussion (30 mins)\nBreak for tea / networking (40 mins)\nExec speaker session 2 (20 mins)\nWorkshop: Agentic AI for PMs (40 mins)\nEnding note (5 mins)\n\nFireside Chat with Akanksha Hazari\, Founder & CEO LoveLocal \n🗓️ Date:Saturday\, November 22 10:30 AM – 1:00 PM \n📍 Venue:Pune\, Maharashtra \n\n\n\n       \n\nBecome part of the Women in Product India community: \n\nApply for Membership\nInstagram\nLinkedIn\nEvents Calendar
URL:https://womeninproductindia.com/event/wip-india-pune-launch-future-of-energy-tech-products/
LOCATION:Pune Maharashtra
ATTACH;FMTTYPE=image/jpeg:https://womeninproductindia.com/wp-content/uploads/2025/12/WIP-India-Pune-launch-Future-of-energy-tech-products.jpg
END:VEVENT
BEGIN:VEVENT
DTSTART;TZID=UTC:20251123T120000
DTEND;TZID=UTC:20251123T150000
DTSTAMP:20260419T235257
CREATED:20251202T064142Z
LAST-MODIFIED:20251202T122847Z
UID:7437-1763899200-1763910000@womeninproductindia.com
SUMMARY:The Women in Product India Brunch Club - Mumbai
DESCRIPTION:About Event\nA group of powerhouse leaders bonding over good food\, refreshing conversation and zero ego! \n​​Join us for the exclusive WIP India year-end hangout\, a fun filled brunch where the only agenda is good vibes\, great conversations\, and genuine connections. \n​​Meet and connect with amazing women + allies Founders and Product Leaders\, this is your chance to let your hair down and create memories that last 🌟 \n​​✨ Invite-only & ticketed event – Apply now to grab your spot! \n​Register on Luma & Make the ticket payment using this link (https://rzp.io/rzp/owtxb2Sn) \n​Wait for the approval & confirmation email \n​Ticket Price to cover an amazing 4 course brunch spread + welcome drinks: Rs. 2500/- \n​​We can’t wait to see you there 💃 \n​​Feel free to contact us any questions on hello@womeninproductindia.com \n​Time to dress up\, meet powerhouse leaders and have a great time \n🗓️ Date:Sunday\, November 23 12:00 PM – 3:00 PM \n📍 Venue:Mumbai\, Maharashtra \n\n        \n        \n    \n\n\n\n       \n\nBecome part of the Women in Product India community: \n\nApply for Membership\nInstagram\nLinkedIn\nEvents Calendar
URL:https://womeninproductindia.com/event/the-women-in-product-india-brunch-club-mumbai/
LOCATION:Mumbai\, Maharashtra
ATTACH;FMTTYPE=image/jpeg:https://womeninproductindia.com/wp-content/uploads/2025/12/The-Women-in-Product-India-Brunch-Club-Mumbai.jpg
END:VEVENT
BEGIN:VEVENT
DTSTART;TZID=UTC:20251129T160000
DTEND;TZID=UTC:20251129T180000
DTSTAMP:20260419T235257
CREATED:20251202T065002Z
LAST-MODIFIED:20251202T122809Z
UID:7443-1764432000-1764439200@womeninproductindia.com
SUMMARY:Hyderabad AI Demo Day
DESCRIPTION:About Event\n​Hyderabad’s AI startup ecosystem is buzzing and we’re bringing its brightest builders together. \nJoin us on 29th Nov for Hyderabad AI Demo Day\, where some of the city’s most exciting early-stage AI startups will showcase what they’ve been building. \n​Expect live demos\, candid conversations\, and a chance for the community to share real feedback that helps founders level up. Whether you’re an operator\, founder\, or simply AI-curious\, come learn\, connect\, and get inspired by the next wave of innovation emerging from Hyderabad. \n​Startups presenting: \n\n​Fettle – Building in health tech AI\n​ \nVyuh Technologies – AI powered building infra\n\n🗓️ Date: Sat\, 29th Nov\, 2025 \n🕒 Time: 4 PM – 6 PM \n📍 Venue: Juiblee Hills\, Hyderabad (register to see full address) \n👩‍💻 Hosted by: Women in Product India × CoKarma \n\n\n\n       \n\nBecome part of the Women in Product India community: \n\nApply for Membership\nInstagram\nLinkedIn\nEvents Calendar
URL:https://womeninproductindia.com/event/hyderabad-ai-demo-day/
LOCATION:Hyderabad\, Telangana
ATTACH;FMTTYPE=image/jpeg:https://womeninproductindia.com/wp-content/uploads/2025/12/Hyderabad-AI-Demo-Day.jpg
END:VEVENT
BEGIN:VEVENT
DTSTART;TZID=UTC:20251129T183000
DTEND;TZID=UTC:20251129T203000
DTSTAMP:20260419T235257
CREATED:20251202T065823Z
LAST-MODIFIED:20251202T122736Z
UID:7446-1764441000-1764448200@womeninproductindia.com
SUMMARY:The Women in Product India Year-End Social - BLR
DESCRIPTION:About Event\nA group of powerhouse leaders bonding over good food\, refreshing conversation and zero ego! \n​​Join us for the exclusive WIP India year-end hangout\, a fun filled social where the only agenda is good vibes\, great conversations\, and genuine connections. \n​​Meet and connect with amazing women + allies Founders and Product Leaders\, this is your chance to let your hair down and create memories that last 🌟 \n​​✨ Invite-only & ticketed event – Apply now to grab your spot! \n\n​Register on Luma & Make the ticket payment using this link (https://rzp.io/rzp/vqCLDaho)\n​ \nWait for the approval & confirmation email\n\n​Ticket Price to cover an amazing 4 course dinner spread: Rs. 2500/- \nWe can’t wait to see you there 💃 \n🗓️ Date: Sat\, 29th Nov\, 2025 \n🕒 Time: 6:30 PM – 8:00 PM \n📍 Venue: Bengaluru\, Karnataka \n \n\n\n       \n\nBecome part of the Women in Product India community: \n\nApply for Membership\nInstagram\nLinkedIn\nEvents Calendar
URL:https://womeninproductindia.com/event/the-women-in-product-india-year-end-social-blr/
LOCATION:Bengaluru\, Karnataka
ATTACH;FMTTYPE=image/jpeg:https://womeninproductindia.com/wp-content/uploads/2025/12/The-Women-in-Product-India-Year-End-Social-BLR.jpg
END:VEVENT
END:VCALENDAR