BEGIN:VCALENDAR
VERSION:2.0
PRODID:-//Women in Product India | Empowering Women Product Leaders - ECPv6.15.20//NONSGML v1.0//EN
CALSCALE:GREGORIAN
METHOD:PUBLISH
X-ORIGINAL-URL:https://womeninproductindia.com
X-WR-CALDESC:Events for Women in Product India | Empowering Women Product Leaders
REFRESH-INTERVAL;VALUE=DURATION:PT1H
X-Robots-Tag:noindex
X-PUBLISHED-TTL:PT1H
BEGIN:VTIMEZONE
TZID:UTC
BEGIN:STANDARD
TZOFFSETFROM:+0000
TZOFFSETTO:+0000
TZNAME:UTC
DTSTART:20240101T000000
END:STANDARD
END:VTIMEZONE
BEGIN:VEVENT
DTSTART;TZID=UTC:20251206T100000
DTEND;TZID=UTC:20251206T130000
DTSTAMP:20260419T223706
CREATED:20251202T090301Z
LAST-MODIFIED:20251202T124836Z
UID:7455-1765015200-1765026000@womeninproductindia.com
SUMMARY:Chennai Launch: AI redefining Product
DESCRIPTION:About Event\n​Join us for the Chennai launch of Women in Product India in collaboration with Kyn\, as we bring together product thinkers\, leaders\, founders\, and operators to explore how AI is reshaping the future of product. \n\nThis power-packed session dives into the evolving intersections of product strategy\, customer acquisition\, and intelligent automation\, and what it means for the next generation of builders. \nHosted by Women in Product India × Freshworks\, this session will dive into what it means to build AI-native products—from identifying the right use cases\, to designing seamless customer experiences\, to redefining the PM skillset for an AI-first world. \nDate: 6th Dec\, 2025 \nTime: 10:00 am onwards \nLocation: Teynampet\, Chennai (Full address shown on confirmation) \nApply now to grab your spot! \nWe can’t wait to see you there! \n\n\n\n  \n\nJoin Women in Product India: \n\nApply for Membership\nInstagram\nLinkedIn\nEvents Calendar\n\n Where:Chennai\, Tamil Nadu \n When:Saturday\, December 6 10:00 AM – 1:00 PM \nRequest to Join
URL:https://womeninproductindia.com/event/chennai-launch-ai-redefining-product/
LOCATION:Chennai\, Tamil Nadu
ATTACH;FMTTYPE=image/jpeg:https://womeninproductindia.com/wp-content/uploads/2025/12/Chennai-Launch-AI-redefining-Product.jpg
END:VEVENT
END:VCALENDAR